BEGIN:VCALENDAR
VERSION:2.0
PRODID:-//SMKS Nurul Haromain - ECPv6.15.17//NONSGML v1.0//EN
CALSCALE:GREGORIAN
METHOD:PUBLISH
X-WR-CALNAME:SMKS Nurul Haromain
X-ORIGINAL-URL:https://smksnurulharomain.sch.id
X-WR-CALDESC:Events for SMKS Nurul Haromain
REFRESH-INTERVAL;VALUE=DURATION:PT1H
X-Robots-Tag:noindex
X-PUBLISHED-TTL:PT1H
BEGIN:VTIMEZONE
TZID:UTC
BEGIN:STANDARD
TZOFFSETFROM:+0000
TZOFFSETTO:+0000
TZNAME:UTC
DTSTART:20230101T000000
END:STANDARD
END:VTIMEZONE
BEGIN:VEVENT
DTSTART;TZID=UTC:20251201T073000
DTEND;TZID=UTC:20251213T170000
DTSTAMP:20260423T132032
CREATED:20251201T011817Z
LAST-MODIFIED:20251201T011817Z
UID:2096-1764574200-1765645200@smksnurulharomain.sch.id
SUMMARY:SAS (Sumatif Akhir Semester) Ganjil TA 2024-2025
DESCRIPTION:SMKS Nurul Haromain Pujon siap menyukseskan pelaksanaan Sumatif Akhir Semester (SAS) Ganjil Tahun Ajaran 2024/2025. Mari persiapkan diri dengan belajar giat dan menjunjung tinggi kejujuran demi hasil evaluasi yang maksimal.
URL:https://smksnurulharomain.sch.id/event/sas-sumatif-akhir-semester-ganjil-ta-2024-2025/
LOCATION:SMKS Nurul Haromain Pujon\, PP Nurul Haromain Pujon\, Jl. Brigjen A. Manan Wijaya No. 141 Ngroto Pujon\, Kab. Malang\, Jawa Timur\, 65391
CATEGORIES:Kegiatan Siswa Di Dalam Sekolah
ATTACH;FMTTYPE=image/jpeg:https://smksnurulharomain.sch.id/wp-content/uploads/2025/09/WhatsApp-Image-2024-01-10-at-14.17.28-1024x576-1.jpeg
END:VEVENT
BEGIN:VEVENT
DTSTART;TZID=UTC:20240428T170000
DTEND;TZID=UTC:20240429T165959
DTSTAMP:20260423T132032
CREATED:20240323T153452Z
LAST-MODIFIED:20240323T153528Z
UID:1357-1714323600-1714409999@smksnurulharomain.sch.id
SUMMARY:Presentasi Hasil Prakerin Siswa TKJ
DESCRIPTION:Kegiatan presensi hasil dari prakerin selama semester ganjil\, bagi siswa kelas XI jurusan TKJ.
URL:https://smksnurulharomain.sch.id/event/presentasi-hasil-prakerin-siswa-tkj/
LOCATION:SMKS Nurul Haromain Pujon\, PP Nurul Haromain Pujon\, Jl. Brigjen A. Manan Wijaya No. 141 Ngroto Pujon\, Kab. Malang\, Jawa Timur\, 65391
CATEGORIES:kegiatan Sekolah,Kegiatan Siswa Di Dalam Sekolah
ATTACH;FMTTYPE=image/jpeg:https://smksnurulharomain.sch.id/wp-content/uploads/2022/11/LAN-1.jpg
END:VEVENT
BEGIN:VEVENT
DTSTART;TZID=UTC:20240423T170000
DTEND;TZID=UTC:20240504T165959
DTSTAMP:20260423T132032
CREATED:20240323T152448Z
LAST-MODIFIED:20240323T152448Z
UID:1352-1713891600-1714841999@smksnurulharomain.sch.id
SUMMARY:USP - Ujian Satuan Pendidikan SMKS Nurul Haromain Pujon
DESCRIPTION:Ujian satuan pendidikan (USP) di SMKS Nurul Haromain pujon akan berlangsung selama +/- 9 Hari kalender aktif.
URL:https://smksnurulharomain.sch.id/event/usp-ujian-satuan-pendidikan-smks-nurul-haromain-pujon/
LOCATION:SMKS Nurul Haromain Pujon\, PP Nurul Haromain Pujon\, Jl. Brigjen A. Manan Wijaya No. 141 Ngroto Pujon\, Kab. Malang\, Jawa Timur\, 65391
CATEGORIES:kegiatan Sekolah,Kegiatan Siswa Di Dalam Sekolah
ATTACH;FMTTYPE=image/jpeg:https://smksnurulharomain.sch.id/wp-content/uploads/2024/03/IMG_6306-scaled.jpg
END:VEVENT
END:VCALENDAR